BEGIN:VCALENDAR
VERSION:2.0
PRODID:-//Ayuntamiento de Cañada - ECPv6.15.16//NONSGML v1.0//EN
CALSCALE:GREGORIAN
METHOD:PUBLISH
X-ORIGINAL-URL:https://www.canyada.es
X-WR-CALDESC:Eventos para Ayuntamiento de Cañada
REFRESH-INTERVAL;VALUE=DURATION:PT1H
X-Robots-Tag:noindex
X-PUBLISHED-TTL:PT1H
BEGIN:VTIMEZONE
TZID:Europe/Madrid
BEGIN:DAYLIGHT
TZOFFSETFROM:+0100
TZOFFSETTO:+0200
TZNAME:CEST
DTSTART:20170326T010000
END:DAYLIGHT
BEGIN:STANDARD
TZOFFSETFROM:+0200
TZOFFSETTO:+0100
TZNAME:CET
DTSTART:20171029T010000
END:STANDARD
BEGIN:DAYLIGHT
TZOFFSETFROM:+0100
TZOFFSETTO:+0200
TZNAME:CEST
DTSTART:20180325T010000
END:DAYLIGHT
BEGIN:STANDARD
TZOFFSETFROM:+0200
TZOFFSETTO:+0100
TZNAME:CET
DTSTART:20181028T010000
END:STANDARD
BEGIN:DAYLIGHT
TZOFFSETFROM:+0100
TZOFFSETTO:+0200
TZNAME:CEST
DTSTART:20190331T010000
END:DAYLIGHT
BEGIN:STANDARD
TZOFFSETFROM:+0200
TZOFFSETTO:+0100
TZNAME:CET
DTSTART:20191027T010000
END:STANDARD
END:VTIMEZONE
BEGIN:VEVENT
DTSTART;TZID=Europe/Madrid:20181202T173000
DTEND;TZID=Europe/Madrid:20181202T193000
DTSTAMP:20260423T222727
CREATED:20181128T103323Z
LAST-MODIFIED:20181128T104205Z
UID:10000017-1543771800-1543779000@www.canyada.es
SUMMARY:Teatro "Celos del Aire"
DESCRIPTION:
URL:https://www.canyada.es/event/teatro-celos-del-aire/
LOCATION:Centre Cultural de la Cañada
CATEGORIES:Cultura,Eventos
ATTACH;FMTTYPE=image/jpeg:https://www.canyada.es/wp-content/uploads/2018/11/CARTEL-TEATRO-DOMINGO-2-DE-DICIEMBRE.jpg
END:VEVENT
END:VCALENDAR